BEGIN:VCALENDAR
VERSION:2.0
PRODID:-//hacksw/handcal//NONSGML v1.0//EN
BEGIN:VEVENT
SUMMARY:Senior D3
UID:33dd9c81-155c-4d75-987d-39d089b3928b
DTSTART:20260418T160000Z
DTEND:20260418T220000Z
LOCATION:Localisation   
CATEGORIES:Sportif
STATUS:
URL;VALUE=URI:https://www.diablesrougessellessaintdenis.fr/evenements/2026/04/18/senior-d3-2443055
END:VEVENT
END:VCALENDAR
