BEGIN:VCALENDAR
VERSION:2.0
PRODID:-//hacksw/handcal//NONSGML v1.0//EN
BEGIN:VEVENT
SUMMARY:Senior D3
UID:5d249771-b41a-4168-9d61-7b9907afd3bd
DTSTART:20260425T170000Z
DTEND:20260425T220000Z
LOCATION:Localisation   
CATEGORIES:Sportif
STATUS:
URL;VALUE=URI:https://www.diablesrougessellessaintdenis.fr/evenements/2026/04/25/senior-d3-2443075
END:VEVENT
END:VCALENDAR
