BEGIN:VCALENDAR
VERSION:2.0
PRODID:-//hacksw/handcal//NONSGML v1.0//EN
BEGIN:VEVENT
SUMMARY:Senior D1
UID:9a6f5799-54de-463f-9051-6fef1301a3e4
DTSTART:20260426T130000Z
DTEND:20260426T220000Z
LOCATION:Localisation   
CATEGORIES:Sportif
STATUS:
URL;VALUE=URI:https://www.diablesrougessellessaintdenis.fr/evenements/2026/04/26/senior-d1-2443077
END:VEVENT
END:VCALENDAR
